BEGIN:VCALENDAR
VERSION:2.0
PRODID:SchoolNow
CALSCALE:GREGORIAN
BEGIN:VEVENT
UID:0c99f4fa-2854-11ec-a061-027142cade83
DTSTAMP:20211008T162319Z
SUMMARY:Reserved - 11AM-3PM
URL;VALUE=URI:https://www.ballantraecdd.org/clubhouse/calendar/2800628/rese
 rved-11am-3pm
DTSTART:20211010T150000Z
DTEND:20211010T190000Z
END:VEVENT
END:VCALENDAR
