BEGIN:VCALENDAR
VERSION:2.0
PRODID:SchoolNow
CALSCALE:GREGORIAN
BEGIN:VEVENT
UID:a925162a-26d2-11ec-b175-0a68aec8ee67
DTSTAMP:20211006T182436Z
SUMMARY:Reserved - 1PM-5PM
URL;VALUE=URI:https://www.ballantraecdd.org/clubhouse/calendar/2795886/rese
 rved-1pm-5pm
DTSTART:20211017T170000Z
DTEND:20211017T210000Z
END:VEVENT
END:VCALENDAR
