BEGIN:VCALENDAR
VERSION:2.0
PRODID:SchoolNow
CALSCALE:GREGORIAN
BEGIN:VEVENT
UID:0eb9d438-2126-11ec-8401-02bf75efb443
DTSTAMP:20210929T130628Z
SUMMARY:Reserved - 10AM-2PM
URL;VALUE=URI:https://www.ballantraecdd.org/clubhouse/calendar/2775864/rese
 rved-10am-2pm
DTSTART:20211002T140000Z
DTEND:20211002T180000Z
END:VEVENT
END:VCALENDAR
