BEGIN:VCALENDAR
VERSION:2.0
PRODID:SchoolNow
CALSCALE:GREGORIAN
BEGIN:VEVENT
UID:122eaeb8-2068-11ec-97f6-0e969e44e5ab
DTSTAMP:20210928T142647Z
SUMMARY:Straiton HOA - September 30
LOCATION:Ballantrae Community Center\, 17611 Mentmore Blvd.\, Land O’Lake
 s\, Florida.
URL;VALUE=URI:https://www.ballantraecdd.org/clubhouse/calendar/2773079/stra
 iton-hoa-september-30
DTSTART:20210930T190000Z
DTEND:20210930T230000Z
END:VEVENT
END:VCALENDAR
