BEGIN:VCALENDAR
VERSION:2.0
PRODID:SchoolNow
CALSCALE:GREGORIAN
BEGIN:VEVENT
UID:576d722e-1fb5-11ec-b0a4-0abeb058e71d
DTSTAMP:20210927T170705Z
SUMMARY:Reserved - 1PM-5PM
URL;VALUE=URI:https://www.ballantraecdd.org/clubhouse/calendar/2770023/rese
 rved-1pm-5pm
DTSTART:20211023T170000Z
DTEND:20211023T210000Z
END:VEVENT
END:VCALENDAR
