BEGIN:VCALENDAR
VERSION:2.0
PRODID:SchoolNow
CALSCALE:GREGORIAN
BEGIN:VEVENT
UID:74f48a94-1fab-11ec-8fa6-0ef6c6c05447
DTSTAMP:20210927T155620Z
SUMMARY:Reserved - 4PM-8PM
URL;VALUE=URI:https://www.ballantraecdd.org/clubhouse/calendar/2769358/rese
 rved-4pm-8pm
DTSTART:20211016T200000Z
DTEND:20211017T000000Z
END:VEVENT
END:VCALENDAR
