BEGIN:VCALENDAR
VERSION:2.0
PRODID:SchoolNow
CALSCALE:GREGORIAN
BEGIN:VEVENT
UID:e49de890-1650-11ec-905e-0214ef3c6c2f
DTSTAMP:20210915T181523Z
SUMMARY:Reserved - 3PM-7PM
LOCATION:Ballantrae Community Center\, 17611 Mentmore Blvd.\, Land O’Lake
 s\, Florida.
URL;VALUE=URI:https://www.ballantraecdd.org/clubhouse/calendar/2739357/rese
 rved-3pm-7pm
DTSTART:20211002T190000Z
DTEND:20211002T230000Z
END:VEVENT
END:VCALENDAR
