BEGIN:VCALENDAR
VERSION:2.0
PRODID:SchoolNow
CALSCALE:GREGORIAN
BEGIN:VEVENT
UID:aa907672-1650-11ec-ba60-0214ef3c6c2f
DTSTAMP:20210915T181449Z
SUMMARY:Reserved - 12PM to 4PM
LOCATION:Ballantrae Community Center\, 17611 Mentmore Blvd.\, Land O’Lake
 s\, Florida.
URL;VALUE=URI:https://www.ballantraecdd.org/clubhouse/calendar/2739356/rese
 rved-12pm-to-4pm
DTSTART:20210926T160000Z
DTEND:20210926T200000Z
END:VEVENT
END:VCALENDAR
