BEGIN:VCALENDAR
VERSION:2.0
PRODID:SchoolNow
CALSCALE:GREGORIAN
BEGIN:VEVENT
UID:f3d73faa-156a-11ec-9168-029e6e1287eb
DTSTAMP:20211012T125257Z
SUMMARY:Straiton HOA Meeting - Oct. 2020
LOCATION:Ballantrae Community Center\, 17611 Mentmore Blvd.\, Land O’Lake
 s\, Florida.
URL;VALUE=URI:https://www.ballantraecdd.org/clubhouse/calendar/2735056/ball
 antrae-hoa-meeting-october-2021
DTSTART:20211012T230000Z
DTEND:20211013T000000Z
END:VEVENT
END:VCALENDAR
