BEGIN:VCALENDAR
VERSION:2.0
PRODID:SchoolNow
CALSCALE:GREGORIAN
BEGIN:VEVENT
UID:1606fea8-14bc-11ec-81e5-0e99957af753
DTSTAMP:20210913T175819Z
SUMMARY:Straiton HOA Meeting - October 2021
LOCATION:Ballantrae Community Center\, 17611 Mentmore Blvd.\, Land O’Lake
 s\, Florida.
URL;VALUE=URI:https://www.ballantraecdd.org/clubhouse/calendar/2731325/stra
 iton-hoa-meeting
DTSTART:20211026T220000Z
DTEND:20211026T230000Z
END:VEVENT
END:VCALENDAR
