BEGIN:VCALENDAR
VERSION:2.0
PRODID:SchoolNow
CALSCALE:GREGORIAN
BEGIN:VEVENT
UID:53900424-09ac-11ec-9e1f-0e51496e09bb
DTSTAMP:20210830T160708Z
SUMMARY:Reserved - 12:30PM-4:30PM
LOCATION:Ballantrae Community Center\, 17611 Mentmore Blvd.\, Land O’Lake
 s\, Florida.
URL;VALUE=URI:https://www.ballantraecdd.org/clubhouse/calendar/2694414/rese
 rved-12-30pm-4-30pm
DTSTART:20210925T163000Z
DTEND:20210925T203000Z
END:VEVENT
END:VCALENDAR
