BEGIN:VCALENDAR
VERSION:2.0
PRODID:SchoolNow
CALSCALE:GREGORIAN
BEGIN:VEVENT
UID:2b2f44ac-002b-11ec-b33c-0a75e261f707
DTSTAMP:20210818T134954Z
SUMMARY:Reserved - 2PM-6PM
URL;VALUE=URI:https://www.ballantraecdd.org/clubhouse/calendar/2677107/rese
 rved-2pm-6pm
DTSTART:20210821T180000Z
DTEND:20210821T220000Z
END:VEVENT
END:VCALENDAR
