BEGIN:VCALENDAR
VERSION:2.0
PRODID:SchoolNow
CALSCALE:GREGORIAN
BEGIN:VEVENT
UID:6c488bbe-f46f-11eb-9d4b-0a4c584a8ccf
DTSTAMP:20211020T201922Z
SUMMARY:Ballantrae CDD Board Meeting - Oct. 2021
LOCATION:Ballantrae Community Center\, 17611 Mentmore Blvd.\, Land O’Lake
 s\, Florida.
URL;VALUE=URI:https://www.ballantraecdd.org/clubhouse/calendar/2653369/ball
 antrae-cdd-board-meeting-oct-2021
DTSTART:20211027T223000Z
DTEND:20211027T233000Z
ATTACH;FILENAME=2021-10-27 Agenda.pdf;FMTTYPE=application/pdf:https://campu
 ssuite-storage.s3.amazonaws.com/prod/1558781/c1225044-a7db-11e9-8c09-127b6
 eacda64/2332834/ef41eb54-31e2-11ec-b33e-02b4ec425fd5/file/2021-10-27 Agend
 a.pdf
END:VEVENT
END:VCALENDAR
