BEGIN:VCALENDAR
VERSION:2.0
PRODID:SchoolNow
CALSCALE:GREGORIAN
BEGIN:VEVENT
UID:997e5d6a-e96c-11eb-878e-02b0a60aa7c9
DTSTAMP:20210720T151020Z
SUMMARY:Reserved - 9AM-5PM
URL;VALUE=URI:https://www.ballantraecdd.org/clubhouse/calendar/2643034/rese
 rved-9am-5pm
DTSTART:20210814T130000Z
DTEND:20210814T210000Z
END:VEVENT
END:VCALENDAR
