BEGIN:VCALENDAR
VERSION:2.0
PRODID:SchoolNow
CALSCALE:GREGORIAN
BEGIN:VEVENT
UID:980d7cac-de6f-11eb-991b-0e2785db682b
DTSTAMP:20210706T153403Z
SUMMARY:Reserved - 10AM-6PM
LOCATION:Ballantrae Community Center\, 17611 Mentmore Blvd.\, Land O’Lake
 s\, Florida.
URL;VALUE=URI:https://www.ballantraecdd.org/clubhouse/calendar/2635123/rese
 rved-10am-6pm
DTSTART:20210725T140000Z
DTEND:20210725T220000Z
END:VEVENT
END:VCALENDAR
