BEGIN:VCALENDAR
VERSION:2.0
PRODID:SchoolNow
CALSCALE:GREGORIAN
BEGIN:VEVENT
UID:bd6f4db2-da9c-11eb-8f79-0ea1a0658683
DTSTAMP:20210701T184751Z
SUMMARY:Reserved - 3PM-7PM
LOCATION:Ballantrae Community Center\, 17611 Mentmore Blvd.\, Land O’Lake
 s\, Florida.
URL;VALUE=URI:https://www.ballantraecdd.org/clubhouse/calendar/2633309/rese
 rved-3pm-7pm
DTSTART:20210717T190000Z
DTEND:20210717T230000Z
END:VEVENT
END:VCALENDAR
