BEGIN:VCALENDAR
VERSION:2.0
PRODID:SchoolNow
CALSCALE:GREGORIAN
BEGIN:VEVENT
UID:11a301be-d820-11eb-ab79-0ea6be925dd5
DTSTAMP:20210628T144941Z
SUMMARY:Reserved - 10AM - 2PM
LOCATION:Ballantrae Community Center\, 17611 Mentmore Blvd.\, Land O’Lake
 s\, Florida.
URL;VALUE=URI:https://www.ballantraecdd.org/clubhouse/calendar/2628862/rese
 rved-10am-2pm
DTSTART:20210724T140000Z
DTEND:20210724T180000Z
END:VEVENT
END:VCALENDAR
