BEGIN:VCALENDAR
VERSION:2.0
PRODID:SchoolNow
CALSCALE:GREGORIAN
BEGIN:VEVENT
UID:f28a7692-d390-11eb-aab8-026cc4bf6347
DTSTAMP:20210622T193506Z
SUMMARY:Reserved - 12PM - 4PM
LOCATION:Ballantrae Community Center\, 17611 Mentmore Blvd.\, Land O’Lake
 s\, Florida.
URL;VALUE=URI:https://www.ballantraecdd.org/clubhouse/calendar/2625657/rese
 rved-12pm-4pm
DTSTART:20210710T160000Z
DTEND:20210710T200000Z
END:VEVENT
END:VCALENDAR
