BEGIN:VCALENDAR
VERSION:2.0
PRODID:SchoolNow
CALSCALE:GREGORIAN
BEGIN:VEVENT
UID:142ae518-ca0c-11eb-a254-0ec45ceaa3a3
DTSTAMP:20210611T164752Z
SUMMARY:Reserved - 12PM-4PM
LOCATION:Ballantrae Community Center\, 17611 Mentmore Blvd.\, Land O’Lake
 s\, Florida.
URL;VALUE=URI:https://www.ballantraecdd.org/clubhouse/calendar/2617736/rese
 rved-august-7-2021
DTSTART:20210807T160000Z
DTEND:20210807T200000Z
END:VEVENT
END:VCALENDAR
