BEGIN:VCALENDAR
VERSION:2.0
PRODID:SchoolNow
CALSCALE:GREGORIAN
BEGIN:VEVENT
UID:4182b9d4-c956-11eb-a89c-0a75e2af6d59
DTSTAMP:20210715T165113Z
SUMMARY:Straiton HOA Meeting - July 2021
LOCATION:Ballantrae Community Center\, 17611 Mentmore Blvd.\, Land O’Lake
 s\, Florida.
URL;VALUE=URI:https://www.ballantraecdd.org/clubhouse/calendar/2616637/stra
 iton-hoa
DTSTART:20210719T220000Z
DTEND:20210720T020000Z
END:VEVENT
END:VCALENDAR
