BEGIN:VCALENDAR
VERSION:2.0
PRODID:SchoolNow
CALSCALE:GREGORIAN
BEGIN:VEVENT
UID:3386f0b6-c956-11eb-98fe-0a75e2af6d59
DTSTAMP:20210611T164735Z
SUMMARY:Reserved - 10AM-2PM
LOCATION:Ballantrae Community Center\, 17611 Mentmore Blvd.\, Land O’Lake
 s\, Florida.
URL;VALUE=URI:https://www.ballantraecdd.org/clubhouse/calendar/2616636/rese
 rved
DTSTART:20210717T140000Z
DTEND:20210717T180000Z
END:VEVENT
END:VCALENDAR
