BEGIN:VCALENDAR
VERSION:2.0
PRODID:SchoolNow
CALSCALE:GREGORIAN
BEGIN:VEVENT
UID:213410ec-c956-11eb-89d8-0a75e2af6d59
DTSTAMP:20210609T191034Z
SUMMARY:Ballantrae HOA Meeting - July 2021
LOCATION:Ballantrae Community Center\, 17611 Mentmore Blvd.\, Land O’Lake
 s\, Florida.
URL;VALUE=URI:https://www.ballantraecdd.org/clubhouse/calendar/2616635/ball
 antrae-hoa
DTSTART:20210713T223000Z
DTEND:20210713T233000Z
END:VEVENT
END:VCALENDAR
