BEGIN:VCALENDAR
VERSION:2.0
PRODID:SchoolNow
CALSCALE:GREGORIAN
BEGIN:VEVENT
UID:0127de0e-ff72-11ea-ab72-124991cb02c7
DTSTAMP:20210824T143549Z
SUMMARY:Ballantrae CDD Board Meeting - Aug. 2021
LOCATION:Ballantrae Community Center\, 17611 Mentmore Blvd.\, Land O’Lake
 s\, Florida.
URL;VALUE=URI:https://www.ballantraecdd.org/clubhouse/calendar/2387659/ball
 antrae-cdd-board-meeting-aug-2021
DTSTART:20210825T223000Z
DTEND:20210826T003000Z
ATTACH;FILENAME=2021-08-25 Ballantrae CDD Agenda.pdf;FMTTYPE=application/pd
 f:https://campussuite-storage.s3.amazonaws.com/prod/1558781/c1225044-a7db-
 11e9-8c09-127b6eacda64/2303548/ef1cfd8c-005d-11ec-8c60-0aa3f33f07cf/file/2
 021-08-25 Ballantrae CDD Agenda.pdf
END:VEVENT
END:VCALENDAR
