BEGIN:VCALENDAR
VERSION:2.0
PRODID:SchoolNow
CALSCALE:GREGORIAN
BEGIN:VEVENT
UID:db8cb792-ff70-11ea-b69e-0a164db8b7cb
DTSTAMP:20210721T212459Z
SUMMARY:Ballantrae CDD Board Meeting - Jul. 2021
LOCATION:Ballantrae Community Center\, 17611 Mentmore Blvd.\, Land O’Lake
 s\, Florida.
URL;VALUE=URI:https://www.ballantraecdd.org/clubhouse/calendar/2387658/ball
 antrae-cdd-board-meeting-jul-2021
DTSTART:20210728T223000Z
DTEND:20210729T003000Z
ATTACH;FILENAME=2021-07-28 Ballantrae CDD Agenda.pdf;FMTTYPE=application/pd
 f:https://campussuite-storage.s3.amazonaws.com/prod/1558781/c1225044-a7db-
 11e9-8c09-127b6eacda64/2293230/ecc91bec-ea69-11eb-b157-0ace1ba724b1/file/2
 021-07-28 Ballantrae CDD Agenda.pdf
END:VEVENT
END:VCALENDAR
