BEGIN:VCALENDAR
VERSION:2.0
PRODID:SchoolNow
CALSCALE:GREGORIAN
BEGIN:VEVENT
UID:a29a0fac-ff70-11ea-9210-0a164db8b7cb
DTSTAMP:20210324T231244Z
SUMMARY:Ballantrae CDD Board Meeting - Mar. 2021
LOCATION:Ballantrae Community Center\, 17611 Mentmore Blvd.\, Land O’Lake
 s\, Florida / Dial-in Number: 929-205-6099 Meeting ID: 875 3099 9454 Passc
 ode: 872285
URL;VALUE=URI:https://www.ballantraecdd.org/clubhouse/calendar/2387654/ball
 antrae-cdd-board-meeting-mar-2021
DTSTART:20210324T223000Z
DTEND:20210325T003000Z
ATTACH;FILENAME=2021-03-24 Ballantrae CDD Agenda.pdf;FMTTYPE=application/pd
 f:https://campussuite-storage.s3.amazonaws.com/prod/1558781/c1225044-a7db-
 11e9-8c09-127b6eacda64/2243986/42942c0a-8cf6-11eb-bdea-0e00618371e5/file/2
 021-03-24 Ballantrae CDD Agenda.pdf
END:VEVENT
END:VCALENDAR
