BEGIN:VCALENDAR
VERSION:2.0
PRODID:SchoolNow
CALSCALE:GREGORIAN
BEGIN:VEVENT
UID:0a525f88-ff70-11ea-b667-0a164db8b7cb
DTSTAMP:20210315T132943Z
SUMMARY:Ballantrae CDD Board Meeting - Nov. 2020
LOCATION:Ballantrae Community Center\, 17611 Mentmore Blvd.\, Land O’Lake
 s\, Florida.
URL;VALUE=URI:https://www.ballantraecdd.org/clubhouse/calendar/2387650/ball
 antrae-cdd-board-meeting-nov-2020
DTSTART:20201118T233000Z
DTEND:20201119T013000Z
ATTACH;FILENAME=2020-11-18 Ballantrae CDD Meeting Revised Agenda Packet.pdf
 ;FMTTYPE=application/pdf:https://campussuite-storage.s3.amazonaws.com/prod
 /1558781/c1225044-a7db-11e9-8c09-127b6eacda64/2183352/267f2384-246f-11eb-8
 035-0a16bd6bd239/file/2020-11-18 Ballantrae CDD Meeting Revised Agenda Pac
 ket.pdf
END:VEVENT
END:VCALENDAR
